BEGIN:VCALENDAR
VERSION:2.0
PRODID:-//SportPlan//Event Calendar//EN
CALSCALE:GREGORIAN
BEGIN:VEVENT
UID:463fb2bb-c769-48ef-96a8-b5bd697d7490@sportplan.local
DTSTAMP:20260420T215125Z
DTSTART;VALUE=DATE:20260620
DTEND;VALUE=DATE:20260621
SUMMARY:La Quebrantahuesos Cicloturista 2026
DESCRIPTION:La Quebrantahuesos Cicloturista 2026 se celebrará el 20 junio 2026 en Sabiñánigo\, Huesca. Es una buena oportunidad para vivir el ambiente del evento y compartir la experiencia con otros participantes y asistentes. La distancia prevista es de 200 km\, ideal para quienes buscan un reto bien definido en esta cita.
LOCATION:Sabiñánigo\, Huesca
URL:https://sportplan.vercel.app/it/events/la-quebrantahuesos-cicloturista-2026-sabi-nigo-20260620
END:VEVENT
END:VCALENDAR
