BEGIN:VCALENDAR
VERSION:2.0
PRODID:-//SportPlan//Event Calendar//EN
CALSCALE:GREGORIAN
BEGIN:VEVENT
UID:9cd7824d-32fc-483c-8ead-78b85c166d8e@sportplan.local
DTSTAMP:20260420T183539Z
DTSTART;VALUE=DATE:20260913
DTEND;VALUE=DATE:20260914
SUMMARY:La Parisienne 6K 2026
DESCRIPTION:La Parisienne 6K 2026 aura lieu le 13 septembre 2026 à Paris\, Île-de-France\, avec une expérience sportive soignée et accessible à différents profils de participants. Avec un parcours de 7 km\, l'événement mêle effort\, ambiance et découverte du cadre local. C'est un bon choix pour viser la performance ou simplement relever un nouveau défi dans la saison.
LOCATION:Paris\, Île-de-France
URL:https://sportplan.vercel.app/it/events/la-parisienne-6k-2026-paris-2026-09-13
END:VEVENT
END:VCALENDAR
