BEGIN:VCALENDAR
VERSION:2.0
PRODID:-//SportPlan//Event Calendar//EN
CALSCALE:GREGORIAN
BEGIN:VEVENT
UID:e13a3195-0ff6-441b-9c75-1fcdd40fb043@sportplan.local
DTSTAMP:20260420T224555Z
DTSTART;VALUE=DATE:20260125
DTEND;VALUE=DATE:20260126
SUMMARY:La Foulée Blanche 10 km 2026
DESCRIPTION:La Foulée Blanche 10 km 2026 is an official amateur cross-country ski race in Autrans-Méaudre en Vercors\, Isère\, France\, on 25 January 2026. The organizer's winter registrations page lists the 48th Foulée Blanche on Sunday 25 January 2026 and includes public entry for the 10 km ski distance in the event program.
LOCATION:Autrans-Méaudre en Vercors\, Isère\, France
URL:https://sportplan.vercel.app/it/events/la-foulee-blanche-10km-2026-autrans-2026-01-25
END:VEVENT
END:VCALENDAR
