BEGIN:VCALENDAR
VERSION:2.0
PRODID:-//SportPlan//Event Calendar//EN
CALSCALE:GREGORIAN
BEGIN:VEVENT
UID:00fabf38-0114-4736-b917-386b851f0347@sportplan.local
DTSTAMP:20260421T000250Z
DTSTART;VALUE=DATE:20260719
DTEND;VALUE=DATE:20260720
SUMMARY:La Folle Furieuse ® Haute Savoie (74) - les Carroz
DESCRIPTION:La Folle Furieuse ® Haute Savoie (74) - les Carroz se déroule à Arâches-la-Frasse le 19 juillet 2026\, en rassemblant les coureurs dans un cadre agréable et une belle ambiance sportive. L'épreuve propose avec un parcours bien balisé et une vraie ambiance de course\, ce qui en fait un excellent choix aussi bien pour se challenger que pour profiter pleinement de la journée.
LOCATION:Arâches-la-Frasse
URL:https://sportplan.vercel.app/it/events/la-folle-furieuse-haute-savoie-74-les-carroz-araches-la-frasse-2026-07-19
END:VEVENT
END:VCALENDAR
