BEGIN:VCALENDAR
VERSION:2.0
PRODID:-//SportPlan//Event Calendar//EN
CALSCALE:GREGORIAN
BEGIN:VEVENT
UID:78c68336-8877-496f-a907-32286a0bb9f9@sportplan.local
DTSTAMP:20260420T201438Z
DTSTART;VALUE=DATE:20260629
DTEND;VALUE=DATE:20260630
SUMMARY:La Breña Trail Telde
DESCRIPTION:La Breña Trail Telde se celebrará el 2026-06-29 en Telde\, Gran Canaria\, Canarias. Es una buena opción para quienes buscan un reto bien organizado sobre una distancia de 10 km. Ideal tanto para participantes que quieren competir como para quienes prefieren disfrutar del ambiente del evento.
LOCATION:Telde\, Gran Canaria\, Canarias
URL:https://sportplan.vercel.app/it/events/la-brena-trail-telde-telde-2026-06-29-10k
END:VEVENT
END:VCALENDAR
