BEGIN:VCALENDAR
VERSION:2.0
PRODID:-//SportPlan//Event Calendar//EN
CALSCALE:GREGORIAN
BEGIN:VEVENT
UID:ea056bea-1a54-424b-97f7-204effe3accc@sportplan.local
DTSTAMP:20260421T012813Z
DTSTART;VALUE=DATE:20260613
DTEND;VALUE=DATE:20260614
SUMMARY:L'Étape Trondheim 2026
DESCRIPTION:L'Étape Trondheim 2026 is an amateur road-cycling event in Trondheim\, Norway. The official event site says the Tour de France experience is coming to Trondheim\, that everyone can participate\, and that the event has already attracted more than 2\,000 registered riders.
LOCATION:Trondheim
URL:https://sportplan.vercel.app/it/events/l-etape-trondheim-2026-trondheim-2026-06-13
END:VEVENT
END:VCALENDAR
