BEGIN:VCALENDAR
VERSION:2.0
PRODID:-//SportPlan//Event Calendar//EN
CALSCALE:GREGORIAN
BEGIN:VEVENT
UID:6f37b8e9-430b-40f2-941e-46e2a3377a3a@sportplan.local
DTSTAMP:20260420T211637Z
DTSTART;VALUE=DATE:20260613
DTEND;VALUE=DATE:20260615
SUMMARY:L'Étape Poland by Tour de France 2026
DESCRIPTION:L'Étape Poland by Tour de France 2026 is a two-day amateur road-cycling weekend in Zakopane\, Poland. The official event site lists family and kids rides on 13 June 2026 and the main race weekend on 14 June 2026\, with open registration and road formats including a 107 km race and a 51 km ride.
LOCATION:Zakopane
URL:https://sportplan.vercel.app/it/events/l-etape-poland-by-tour-de-france-2026-zakopane-2026-06-13
END:VEVENT
END:VCALENDAR
