BEGIN:VCALENDAR
VERSION:2.0
PRODID:-//SportPlan//Event Calendar//EN
CALSCALE:GREGORIAN
BEGIN:VEVENT
UID:61b45e6a-3fc8-4073-9660-2a3f6abb3468@sportplan.local
DTSTAMP:20260420T211514Z
DTSTART;VALUE=DATE:20260614
DTEND;VALUE=DATE:20260615
SUMMARY:L'Étape Poland 2026
DESCRIPTION:L'Étape Poland 2026 is an amateur road-cycling sportive in Zakopane. The official event site promotes open registration for the second edition\, with a 107 km mountain race in the Tatra landscape plus shorter public-participation formats on the same weekend.
LOCATION:Zakopane
URL:https://sportplan.vercel.app/it/events/l-etape-poland-2026-zakopane-2026-06-14
END:VEVENT
END:VCALENDAR
