BEGIN:VCALENDAR
VERSION:2.0
PRODID:-//SportPlan//Event Calendar//EN
CALSCALE:GREGORIAN
BEGIN:VEVENT
UID:73d35669-5591-4456-864e-7659870101e0@sportplan.local
DTSTAMP:20260420T211617Z
DTSTART;VALUE=DATE:20270404
DTEND;VALUE=DATE:20270405
SUMMARY:L'Étape Cunha by Tour de France 2027
DESCRIPTION:L'Étape Cunha by Tour de France 2027 is an amateur road-cycling event in Cunha\, São Paulo\, Brazil. The official event page says registrations are open for 4 April 2027 and presents the race as part of the L'Étape Brasil series\, with a 111 km mountain route and 2\,400 m of elevation.
LOCATION:Cunha
URL:https://sportplan.vercel.app/it/events/l-etape-cunha-by-tour-de-france-2027-cunha-2027-04-04
END:VEVENT
END:VCALENDAR
