BEGIN:VCALENDAR
VERSION:2.0
PRODID:-//SportPlan//Event Calendar//EN
CALSCALE:GREGORIAN
BEGIN:VEVENT
UID:3cdf72b1-c2bd-4b9d-92b6-6900ca573709@sportplan.local
DTSTAMP:20260420T194802Z
DTSTART;VALUE=DATE:20261101
DTEND;VALUE=DATE:20261102
SUMMARY:L'Étape Chile 2026
DESCRIPTION:L'Étape Chile 2026 is an amateur road-cycling event in Valdivia\, Chile. The official event page says the first edition of L'Étape Chile will take place in Valdivia on 1 November 2026\, bringing the Tour de France spirit to southern Chile. The page lists a 30 km flat route with 372 m of elevation and links to the official registration page.
LOCATION:Valdivia
URL:https://sportplan.vercel.app/it/events/l-etape-chile-2026-valdivia-2026-11-01
END:VEVENT
END:VCALENDAR
