BEGIN:VCALENDAR
VERSION:2.0
PRODID:-//SportPlan//Event Calendar//EN
CALSCALE:GREGORIAN
BEGIN:VEVENT
UID:5cf82aaf-ca8f-481a-b9c2-577b8e11be1a@sportplan.local
DTSTAMP:20260420T211357Z
DTSTART;VALUE=DATE:20260912
DTEND;VALUE=DATE:20260913
SUMMARY:Kupres kros duatlon 2026
DESCRIPTION:Kupres kros duatlon 2026 is an official Bosnia and Herzegovina federation cross duathlon in Kupres on 12 September 2026. The TPSBiH official homepage calendar lists it as an international competition and the state championship in sprint cross duathlon\, organized by TK Rama Prozor/Rama.
LOCATION:Kupres
URL:https://sportplan.vercel.app/it/events/kupres-kros-duatlon-2026-09-12
END:VEVENT
END:VCALENDAR
