BEGIN:VCALENDAR
VERSION:2.0
PRODID:-//SportPlan//Event Calendar//EN
CALSCALE:GREGORIAN
BEGIN:VEVENT
UID:8046b17d-e0f6-4db7-bc8a-b22948821a01@sportplan.local
DTSTAMP:20260420T194920Z
DTSTART;VALUE=DATE:20260628
DTEND;VALUE=DATE:20260629
SUMMARY:Kuala Lumpur Marathon 2026
DESCRIPTION:
LOCATION:Kuala Lumpur\, KL
URL:https://sportplan.vercel.app/it/events/kuala-lumpur-marathon-2026-kuala-lumpur-2026-06-28
END:VEVENT
END:VCALENDAR
