BEGIN:VCALENDAR
VERSION:2.0
PRODID:-//SportPlan//Event Calendar//EN
CALSCALE:GREGORIAN
BEGIN:VEVENT
UID:95fd9fd4-a88a-41c1-a8eb-bcf850213e66@sportplan.local
DTSTAMP:20260420T211617Z
DTSTART;VALUE=DATE:20260926
DTEND;VALUE=DATE:20260927
SUMMARY:König Ludwig Lauf Wellnesslauf 6 km 2026
DESCRIPTION:The König Ludwig Lauf summer edition includes a beginner-friendly 6 km Wellnesslauf from Ettal to Oberammergau. The official organizer page describes it as suitable for experienced runners and newcomers alike\, with registration through 23 September 2026 plus same-day logistics\, shuttle transport\, and finish services.
LOCATION:Oberammergau\, Bavaria\, Germany
URL:https://sportplan.vercel.app/it/events/konig-ludwig-lauf-wellnesslauf-6km-2026-oberammergau-2026-09-26
END:VEVENT
END:VCALENDAR
