BEGIN:VCALENDAR
VERSION:2.0
PRODID:-//SportPlan//Event Calendar//EN
CALSCALE:GREGORIAN
BEGIN:VEVENT
UID:b603639d-f2dd-4856-b994-454fcdc3fbd6@sportplan.local
DTSTAMP:20260420T211726Z
DTSTART;VALUE=DATE:20270207
DTEND;VALUE=DATE:20270208
SUMMARY:König Ludwig Lauf Classic 10 km 2027
DESCRIPTION:König Ludwig Lauf Classic 10 km is the shortest public classic-technique distance on König Ludwig Lauf weekend in Bavaria. The official organizer site lists the classic race day on 7 February 2027\, provides a dedicated 10 km pricing tier and route map\, and explicitly allows younger amateur participants from the 2012 birth year in the shorter distances.
LOCATION:Oberammergau\, Bavaria\, Germany
URL:https://sportplan.vercel.app/it/events/konig-ludwig-lauf-classic-10km-2027-oberammergau-2027-02-07
END:VEVENT
END:VCALENDAR
