BEGIN:VCALENDAR
VERSION:2.0
PRODID:-//SportPlan//Event Calendar//EN
CALSCALE:GREGORIAN
BEGIN:VEVENT
UID:628cffe5-2d49-4b86-a567-bd75acf7fa50@sportplan.local
DTSTAMP:20260420T200011Z
DTSTART;VALUE=DATE:20261115
DTEND;VALUE=DATE:20261116
SUMMARY:Kobe Marathon 2026
DESCRIPTION:
LOCATION:Kobe\, Hyogo
URL:https://sportplan.vercel.app/it/events/kobe-marathon-2026-kobe-2026-11-15
END:VEVENT
END:VCALENDAR
