BEGIN:VCALENDAR
VERSION:2.0
PRODID:-//SportPlan//Event Calendar//EN
CALSCALE:GREGORIAN
BEGIN:VEVENT
UID:022dd411-a9c1-4dd2-8567-3cb72b2c839a@sportplan.local
DTSTAMP:20260420T195039Z
DTSTART;VALUE=DATE:20260801
DTEND;VALUE=DATE:20260802
SUMMARY:Kilimasai Marathon Tanzania
DESCRIPTION:Kilimasai Marathon Tanzania is scheduled for August 1\, 2026 in Arusha. It offers a great opportunity to enjoy a well-organized sporting event with a strong atmosphere and an engaging course. With an expected distance of 42.2 km\, it should appeal both to regular participants and to anyone looking for a fresh challenge.
LOCATION:Arusha
URL:https://sportplan.vercel.app/it/events/kilimasai-marathon-tanzania-arusha-2026-08-01-42-195k
END:VEVENT
END:VCALENDAR
