BEGIN:VCALENDAR
VERSION:2.0
PRODID:-//SportPlan//Event Calendar//EN
CALSCALE:GREGORIAN
BEGIN:VEVENT
UID:68e1f78e-ce2c-42ac-98c9-76f1e6f3a053@sportplan.local
DTSTAMP:20260420T194904Z
DTSTART;VALUE=DATE:20260705
DTEND;VALUE=DATE:20260712
SUMMARY:Kilimanjaro Stage Run 250K 2026
DESCRIPTION:
LOCATION:Moshi\, Kilimanjaro
URL:https://sportplan.vercel.app/it/events/kilimanjaro-stage-run-250k-2026-moshi-2026-07-05
END:VEVENT
END:VCALENDAR
