BEGIN:VCALENDAR
VERSION:2.0
PRODID:-//SportPlan//Event Calendar//EN
CALSCALE:GREGORIAN
BEGIN:VEVENT
UID:13e2e19c-1649-4e3f-9d11-a681836ebabe@sportplan.local
DTSTAMP:20260420T194731Z
DTSTART;VALUE=DATE:20260912
DTEND;VALUE=DATE:20260914
SUMMARY:Kaçkar By UTMB 82K
DESCRIPTION:Kaçkar By UTMB 82K takes place in Ayder\, Rize on September 12\, 2026\, bringing participants together for a memorable day of sport and atmosphere. The route covers approximately 82 km. Expect an enjoyable event setting\, a motivated field\, and a strong local race-day experience.
LOCATION:Ayder\, Rize
URL:https://sportplan.vercel.app/it/events/ka-kar-by-utmb-82k-ayder-2026-09-12
END:VEVENT
END:VCALENDAR
