BEGIN:VCALENDAR
VERSION:2.0
PRODID:-//SportPlan//Event Calendar//EN
CALSCALE:GREGORIAN
BEGIN:VEVENT
UID:049969ce-e450-4b9d-a9a8-f36b09f9f6f3@sportplan.local
DTSTAMP:20260420T201821Z
DTSTART;VALUE=DATE:20261201
DTEND;VALUE=DATE:20261202
SUMMARY:K12 Canarias Anaga Marathon
DESCRIPTION:K12 Canarias Anaga Marathon se celebrará el 1 de diciembre de 2026 en La Laguna\, Tenerife\, Canarias. Es una buena cita para quienes quieren vivir el ambiente del evento en directo y planificar la jornada con antelación. La sede prevista está a unos 12 km\, así que conviene revisar accesos\, horarios y servicios antes de salir.
LOCATION:La Laguna\, Tenerife\, Canarias
URL:https://sportplan.vercel.app/it/events/k12-canarias-anaga-marathon-la-laguna-2026-12-01-12k
END:VEVENT
END:VCALENDAR
