BEGIN:VCALENDAR
VERSION:2.0
PRODID:-//SportPlan//Event Calendar//EN
CALSCALE:GREGORIAN
BEGIN:VEVENT
UID:24d4042e-5ce4-4e3c-b7c7-dec06c4268b9@sportplan.local
DTSTAMP:20260420T211254Z
DTSTART;VALUE=DATE:20260904
DTEND;VALUE=DATE:20260905
SUMMARY:Jungfrau-Minimarathon
DESCRIPTION:official event page\; Tier 2 country scout
LOCATION:Interlaken\, Switzerland
URL:https://sportplan.vercel.app/it/events/jungfrau-minimarathon-2026-09-04
END:VEVENT
END:VCALENDAR
