BEGIN:VCALENDAR
VERSION:2.0
PRODID:-//SportPlan//Event Calendar//EN
CALSCALE:GREGORIAN
BEGIN:VEVENT
UID:942684cd-cb56-428a-b354-caa73dc39020@sportplan.local
DTSTAMP:20260420T181747Z
DTSTART;VALUE=DATE:20260426
DTEND;VALUE=DATE:20260427
SUMMARY:Joey Hannan Memorial Triathlon 2026
DESCRIPTION:Official Limerick Triathlon Club page for the long-running Joey Hannan Memorial Triathlon. The organizer states that the 2026 race will run on 26 April at the University of Limerick and offers public entry across Try-a-Tri/Novice\, Junior Tri\, Sprint\, and Olympic formats.
LOCATION:University of Limerick
URL:https://sportplan.vercel.app/it/events/joey-hannan-memorial-triathlon-2026-04-26
END:VEVENT
END:VCALENDAR
