BEGIN:VCALENDAR
VERSION:2.0
PRODID:-//SportPlan//Event Calendar//EN
CALSCALE:GREGORIAN
BEGIN:VEVENT
UID:0e15fa64-fb2e-4899-9149-3b9a248b480c@sportplan.local
DTSTAMP:20260420T224738Z
DTSTART;VALUE=DATE:20261107
DTEND;VALUE=DATE:20261109
SUMMARY:Jeju Olle Trail Walking Festival 2026
DESCRIPTION:Jeju Olle Trail Walking Festival 2026는 2026-11-07에 Seogwipo\, Jeju에서 개최됩니다. 약 30km 거리로 진행되어 새로운 도전을 원하는 참가자와 현장의 활기찬 분위기를 즐기고 싶은 사람 모두에게 좋은 선택이 될 것입니다. 일정에 새로운 목표를 더하고 특별한 환경에서 활동적인 하루를 보내기에 좋은 기회입니다.
LOCATION:Seogwipo\, Jeju
URL:https://sportplan.vercel.app/it/events/jeju-olle-trail-walking-festival-2026-seogwipo-2026-11-07
END:VEVENT
END:VCALENDAR
