BEGIN:VCALENDAR
VERSION:2.0
PRODID:-//SportPlan//Event Calendar//EN
CALSCALE:GREGORIAN
BEGIN:VEVENT
UID:42955850-27b1-4860-bd75-5d2e2e8504df@sportplan.local
DTSTAMP:20260420T181702Z
DTSTART;VALUE=DATE:20260425
DTEND;VALUE=DATE:20260426
SUMMARY:Jasper Canadian Rockies Half Marathon
DESCRIPTION:Jasper Canadian Rockies Half Marathon takes place in Jasper on April 25\, 2026. It offers a great chance to enjoy a memorable day of running\, with race-day energy and a course that can appeal to a wide range of runners. Whether the goal is a strong result or simply soaking up the event atmosphere\, runners can expect an engaging experience from start to finish.
LOCATION:Jasper
URL:https://sportplan.vercel.app/it/events/jasper-canadian-rockies-half-marathon-jasper-2026-04-25
END:VEVENT
END:VCALENDAR
