BEGIN:VCALENDAR
VERSION:2.0
PRODID:-//SportPlan//Event Calendar//EN
CALSCALE:GREGORIAN
BEGIN:VEVENT
UID:47e5975e-926b-4460-9bc2-2bc3f8990571@sportplan.local
DTSTAMP:20260420T211557Z
DTSTART;VALUE=DATE:20260829
DTEND;VALUE=DATE:20260830
SUMMARY:Jakuszycki Ultramaraton 50K 2026
DESCRIPTION:Jakuszycki Ultramaraton is the 50 km headline race of the official Letni Bieg Piastów weekend in Jakuszyce\, Poland. The organizer describes it as a mountain ultramarathon through the Izera Mountains with mixed natural surfaces\, around 1\,064 m of elevation gain\, and start and finish at Polana Jakuszycka\, making it a clear amateur-participation trail-running event.
LOCATION:Polana Jakuszycka\, Jakuszyce\, Lower Silesia\, Poland
URL:https://sportplan.vercel.app/it/events/jakuszycki-ultramaraton-50k-2026-jakuszyce-2026-08-29
END:VEVENT
END:VCALENDAR
