BEGIN:VCALENDAR
VERSION:2.0
PRODID:-//SportPlan//Event Calendar//EN
CALSCALE:GREGORIAN
BEGIN:VEVENT
UID:640876b3-3eb3-444f-8eeb-9cb03e82da8e@sportplan.local
DTSTAMP:20260421T001442Z
DTSTART;VALUE=DATE:20261025
DTEND;VALUE=DATE:20261026
SUMMARY:Jakarta Marathon 2026
DESCRIPTION:
LOCATION:Jakarta\, DKI Jakarta
URL:https://sportplan.vercel.app/it/events/jakarta-marathon-2026-jakarta-2026-10-25
END:VEVENT
END:VCALENDAR
