BEGIN:VCALENDAR
VERSION:2.0
PRODID:-//SportPlan//Event Calendar//EN
CALSCALE:GREGORIAN
BEGIN:VEVENT
UID:0421e846-7726-4574-bdda-2770d39e56a5@sportplan.local
DTSTAMP:20260420T224451Z
DTSTART;VALUE=DATE:20261012
DTEND;VALUE=DATE:20261013
SUMMARY:IX Trail Ribeira Sacra
DESCRIPTION:IX Trail Ribeira Sacra se celebra el 12 de octubre de 2026 en Luintra\, Ourense\, Galicia. Es una cita ideal para quienes buscan un recorrido bien señalizado y un gran ambiente de carrera\, con un recorrido de 48 km. Perfecta tanto para competir a buen ritmo como para disfrutar de la experiencia y del entorno del evento.
LOCATION:Luintra\, Ourense\, Galicia
URL:https://sportplan.vercel.app/it/events/ix-trail-ribeira-sacra-luintra-2026-10-12-48k
END:VEVENT
END:VCALENDAR
