BEGIN:VCALENDAR
VERSION:2.0
PRODID:-//SportPlan//Event Calendar//EN
CALSCALE:GREGORIAN
BEGIN:VEVENT
UID:5eed4218-2ccf-4741-b264-7c4a4a8f9b15@sportplan.local
DTSTAMP:20260420T204607Z
DTSTART;VALUE=DATE:20260628
DTEND;VALUE=DATE:20260629
SUMMARY:IX Trail Bronchales - Trail 43K
DESCRIPTION:IX Trail Bronchales - Trail 43K se celebrará el 2026-06-28 en Bronchales\, Teruel\, Aragón. Es una buena opción para quienes buscan un reto bien organizado sobre una distancia de 43 km. Ideal tanto para participantes que quieren competir como para quienes prefieren disfrutar del ambiente del evento.
LOCATION:Bronchales\, Teruel\, Aragón
URL:https://sportplan.vercel.app/it/events/ix-trail-bronchales-trail-43k-bronchales-2026-06-28-43k
END:VEVENT
END:VCALENDAR
