BEGIN:VCALENDAR
VERSION:2.0
PRODID:-//SportPlan//Event Calendar//EN
CALSCALE:GREGORIAN
BEGIN:VEVENT
UID:e7a6f801-3b1b-4ded-9db1-1b5374a24c98@sportplan.local
DTSTAMP:20260420T194645Z
DTSTART;VALUE=DATE:20260426
DTEND;VALUE=DATE:20260427
SUMMARY:IV Triatlo de Moura
DESCRIPTION:IV Triatlo de Moura is an official Federação de Triatlo de Portugal event in Moura\, Portugal on 26 April 2026. The federation event page lists it as the Campeonato Nacional Individual de Triatlo de Média Distância with a Prova Aberta\, and publishes the official date\, event page\, poster image\, and course and regulation documents for amateur participants.
LOCATION:Moura\, Beja\, Portugal
URL:https://sportplan.vercel.app/it/events/iv-triatlo-de-moura-2026-04-26
END:VEVENT
END:VCALENDAR
