BEGIN:VCALENDAR
VERSION:2.0
PRODID:-//SportPlan//Event Calendar//EN
CALSCALE:GREGORIAN
BEGIN:VEVENT
UID:48d12da5-126a-42ef-a9af-26b2bcac29f4@sportplan.local
DTSTAMP:20260420T195959Z
DTSTART;VALUE=DATE:20260915
DTEND;VALUE=DATE:20260916
SUMMARY:Ispasterko Mendi Martxa
DESCRIPTION:Ispasterko Mendi Martxa se celebra el 15 de septiembre de 2026 en Ispaster\, Vizcaya\, País Vasco\, ofreciendo una experiencia deportiva exigente y bien organizada para participantes de distintos niveles. El recorrido de 13 km combina reto físico\, ambiente de evento y una buena oportunidad para disfrutar del entorno local. Es una cita ideal tanto para quienes buscan competir como para quienes quieren sumar una nueva meta al calendario.
LOCATION:Ispaster\, Vizcaya\, País Vasco
URL:https://sportplan.vercel.app/it/events/ispasterko-mendi-martxa-ispaster-2026-09-15-13k
END:VEVENT
END:VCALENDAR
