BEGIN:VCALENDAR
VERSION:2.0
PRODID:-//SportPlan//Event Calendar//EN
CALSCALE:GREGORIAN
BEGIN:VEVENT
UID:be2435b2-a218-4713-b953-38a907f0bf60@sportplan.local
DTSTAMP:20260420T224640Z
DTSTART;VALUE=DATE:20260712
DTEND;VALUE=DATE:20260713
SUMMARY:IRONMAN Vitoria-Gasteiz
DESCRIPTION:IRONMAN Vitoria-Gasteiz is an official full-distance triathlon in Vitoria-Gasteiz\, Spain on 12 July 2026. The canonical IRONMAN race page provides registration\, course\, schedule\, travel\, and host-city style event information for amateur participation.
LOCATION:Vitoria-Gasteiz\, Spain
URL:https://sportplan.vercel.app/it/events/ironman-vitoria-gasteiz-2026-vitoria-gasteiz-2026-07-12
END:VEVENT
END:VCALENDAR
