BEGIN:VCALENDAR
VERSION:2.0
PRODID:-//SportPlan//Event Calendar//EN
CALSCALE:GREGORIAN
BEGIN:VEVENT
UID:00437ce0-4792-41aa-b794-a94227ee38f1@sportplan.local
DTSTAMP:20260420T211638Z
DTSTART;VALUE=DATE:20260614
DTEND;VALUE=DATE:20260615
SUMMARY:IRONMAN Kärnten - Klagenfurt\, Austria
DESCRIPTION:IRONMAN Kärnten - Klagenfurt\, Austria findet am 14. Juni 2026 in Klagenfurt am Wörthersee statt. Diese Veranstaltung bietet ein gut organisiertes Lauferlebnis\, ideal für Läuferinnen und Läufer\, die eine klar definierte Herausforderung suchen. Freuen Sie sich auf eine motivierende Atmosphäre\, eine klare sportliche Herausforderung und einen starken Renntag in Klagenfurt am Wörthersee.
LOCATION:Klagenfurt am Wörthersee
URL:https://sportplan.vercel.app/it/events/ironman-karnten-klagenfurt-austria-klagenfurt-am-worthersee-2026-06-14
END:VEVENT
END:VCALENDAR
