BEGIN:VCALENDAR
VERSION:2.0
PRODID:-//SportPlan//Event Calendar//EN
CALSCALE:GREGORIAN
BEGIN:VEVENT
UID:ee22ada2-fa1a-448f-9994-8b7e91465550@sportplan.local
DTSTAMP:20260420T211559Z
DTSTART;VALUE=DATE:20260913
DTEND;VALUE=DATE:20260914
SUMMARY:IRONMAN Japan South Hokkaido
DESCRIPTION:discovered via official IRONMAN sitemap/race pages\; Japan had 0 queue entries before this run and was selected to expand East Asia coverage
LOCATION:Kikonai / Hakodate\, Hokkaido\, Japan
URL:https://sportplan.vercel.app/it/events/ironman-japan-south-hokkaido-2026-09-13
END:VEVENT
END:VCALENDAR
