BEGIN:VCALENDAR
VERSION:2.0
PRODID:-//SportPlan//Event Calendar//EN
CALSCALE:GREGORIAN
BEGIN:VEVENT
UID:8c0a922a-a1ed-4aad-b361-e33374f77646@sportplan.local
DTSTAMP:20260421T000138Z
DTSTART;VALUE=DATE:20260830
DTEND;VALUE=DATE:20260831
SUMMARY:IRONMAN 70.3 Zell am See-Kaprun
DESCRIPTION:IRONMAN 70.3 Zell am See-Kaprun findet am 30. August 2026 in Austria statt. Die Veranstaltung ist eine starke Wahl für Teilnehmende und Begleitpersonen\, die ein aktives und gut organisiertes Event suchen. Die Streckenlänge wird vom Veranstalter bestätigt.
LOCATION:Austria
URL:https://sportplan.vercel.app/it/events/ironman-70-3-zell-am-see-kaprun-austria-2026-08-30
END:VEVENT
END:VCALENDAR
