BEGIN:VCALENDAR
VERSION:2.0
PRODID:-//SportPlan//Event Calendar//EN
CALSCALE:GREGORIAN
BEGIN:VEVENT
UID:301a1be0-ce13-4fe0-bc70-d4e81bc11f90@sportplan.local
DTSTAMP:20260420T224641Z
DTSTART;VALUE=DATE:20260920
DTEND;VALUE=DATE:20260921
SUMMARY:IRONMAN 70.3 Weymouth
DESCRIPTION:IRONMAN 70.3 Weymouth is an official middle-distance triathlon in Weymouth\, United Kingdom on 20 September 2026. The canonical IRONMAN race page provides registration\, course\, schedule\, relay\, travel\, and host-city sections for amateur participation.
LOCATION:Weymouth\, United Kingdom
URL:https://sportplan.vercel.app/it/events/ironman-70-3-weymouth-2026-weymouth-2026-09-20
END:VEVENT
END:VCALENDAR
