BEGIN:VCALENDAR
VERSION:2.0
PRODID:-//SportPlan//Event Calendar//EN
CALSCALE:GREGORIAN
BEGIN:VEVENT
UID:764d900f-0972-4443-9409-4a44cdbca0b9@sportplan.local
DTSTAMP:20260420T211616Z
DTSTART;VALUE=DATE:20261206
DTEND;VALUE=DATE:20261207
SUMMARY:IRONMAN 70.3 Western Australia 2026
DESCRIPTION:IRONMAN 70.3 Western Australia 2026 is an official amateur middle-distance triathlon in Busselton\, Western Australia on 6 December 2026. The official IRONMAN event page shows a public-entry race weekend in Busselton with open registration and the standard swim\, bike\, and run format on one of IRONMAN's best-known Australian host courses.
LOCATION:Busselton
URL:https://sportplan.vercel.app/it/events/ironman-70-3-western-australia-2026-busselton-2026-12-06
END:VEVENT
END:VCALENDAR
