BEGIN:VCALENDAR
VERSION:2.0
PRODID:-//SportPlan//Event Calendar//EN
CALSCALE:GREGORIAN
BEGIN:VEVENT
UID:b299b24c-809b-4cba-b508-f1bd1ab8b6ee@sportplan.local
DTSTAMP:20260420T194714Z
DTSTART;VALUE=DATE:20261129
DTEND;VALUE=DATE:20261130
SUMMARY:IRONMAN 70.3 Valdivia
DESCRIPTION:IRONMAN 70.3 Valdivia is an official amateur middle-distance triathlon scheduled for 29 November 2026 in Valdivia\, Chile. The official race page describes a scenic rivers swim\, flat bike course\, and fast race setting\, with registration\, course\, host-city\, and athlete information available on the official event site.
LOCATION:Valdivia
URL:https://sportplan.vercel.app/it/events/ironman-70-3-valdivia-2026-11-29
END:VEVENT
END:VCALENDAR
