BEGIN:VCALENDAR
VERSION:2.0
PRODID:-//SportPlan//Event Calendar//EN
CALSCALE:GREGORIAN
BEGIN:VEVENT
UID:485ecb49-8d09-43bd-b709-3f7e5c997c64@sportplan.local
DTSTAMP:20260420T234552Z
DTSTART;VALUE=DATE:20261016
DTEND;VALUE=DATE:20261017
SUMMARY:IRONMAN 70.3 Sharm El-Sheikh – Registration
DESCRIPTION:official registration sub-page for IRONMAN 70.3 Sharm El-Sheikh\; Egypt first entries in queue\; stable official sub-page URL\; Flex90 Eligible
LOCATION:Sharm El-Sheikh\, Egypt
URL:https://sportplan.vercel.app/it/events/ironman-70-3-sharm-el-sheikh-registration-2026-10-16
END:VEVENT
END:VCALENDAR
