BEGIN:VCALENDAR
VERSION:2.0
PRODID:-//SportPlan//Event Calendar//EN
CALSCALE:GREGORIAN
BEGIN:VEVENT
UID:a663abe1-0f17-4053-992e-af9fbb423112@sportplan.local
DTSTAMP:20260420T234516Z
DTSTART;VALUE=DATE:20261016
DTEND;VALUE=DATE:20261017
SUMMARY:IRONMAN 70.3 Sharm El-Sheikh\, Egypt
DESCRIPTION:discovered via official IRONMAN race page\; Red Sea swim in Naama Bay\, rolling bike\, flat run\; Egypt had 0 queue entries — new country added\; Flex90 Eligible\; confirmed Feb 2026
LOCATION:Sharm El-Sheikh\, Egypt
URL:https://sportplan.vercel.app/it/events/ironman-70-3-sharm-el-sheikh-egypt-2026-10-16
END:VEVENT
END:VCALENDAR
