BEGIN:VCALENDAR
VERSION:2.0
PRODID:-//SportPlan//Event Calendar//EN
CALSCALE:GREGORIAN
BEGIN:VEVENT
UID:26fefbbb-7064-4cb9-9830-ddfa97b433f0@sportplan.local
DTSTAMP:20260420T195012Z
DTSTART;VALUE=DATE:20261018
DTEND;VALUE=DATE:20261019
SUMMARY:Ironman 70.3 Greece Athens 2026
DESCRIPTION:
LOCATION:Athens\, Attica
URL:https://sportplan.vercel.app/it/events/ironman-70-3-greece-athens-2026-athens-2026-10-18
END:VEVENT
END:VCALENDAR
