BEGIN:VCALENDAR
VERSION:2.0
PRODID:-//SportPlan//Event Calendar//EN
CALSCALE:GREGORIAN
BEGIN:VEVENT
UID:aa4dae81-de3b-4a9c-beb8-a62819e4d13a@sportplan.local
DTSTAMP:20260420T223812Z
DTSTART;VALUE=DATE:20260614
DTEND;VALUE=DATE:20260615
SUMMARY:IRONMAN 70.3 Goseong
DESCRIPTION:Official IRONMAN 70.3 Goseong race page describing an ocean swim\, rolling bike course\, and generally flat run around the Goseong Dinosaur Expo Park.
LOCATION:Goseong\, South Korea
URL:https://sportplan.vercel.app/it/events/ironman-70-3-goseong-2026-06-14
END:VEVENT
END:VCALENDAR
