BEGIN:VCALENDAR
VERSION:2.0
PRODID:-//SportPlan//Event Calendar//EN
CALSCALE:GREGORIAN
BEGIN:VEVENT
UID:f72e002b-4e68-4323-acf8-71fe3fbe0f6e@sportplan.local
DTSTAMP:20260420T194757Z
DTSTART;VALUE=DATE:20261115
DTEND;VALUE=DATE:20261116
SUMMARY:IRONMAN 70.3 Goa 2026
DESCRIPTION:IRONMAN 70.3 Goa 2026 is an amateur-participation middle-distance triathlon in Goa\, India. The official IRONMAN race page describes a swim at Miramar Beach\, a bike leg crossing the Zuari Bridge\, and a run to the Governor's Palace and back\, confirming a public age-group race format.
LOCATION:Panaji\, Goa
URL:https://sportplan.vercel.app/it/events/ironman-70-3-goa-2026-panaji-2026-11-15
END:VEVENT
END:VCALENDAR
