BEGIN:VCALENDAR
VERSION:2.0
PRODID:-//SportPlan//Event Calendar//EN
CALSCALE:GREGORIAN
BEGIN:VEVENT
UID:4fffbfc4-da2c-46aa-aad0-a3663c494606@sportplan.local
DTSTAMP:20260421T012739Z
DTSTART;VALUE=DATE:20270321
DTEND;VALUE=DATE:20270322
SUMMARY:IRONMAN 70.3 Curitiba 2027
DESCRIPTION:IRONMAN 70.3 Curitiba 2027 is an amateur-participation middle-distance triathlon in Curitiba\, Brazil. The official IRONMAN race page describes a 1.9 km swim in the Passaúna Reservoir\, a single-loop 90.1 km bike course\, and a 21.1 km run at Parque Barigui\, confirming an open age-group event with full public race information.
LOCATION:Curitiba
URL:https://sportplan.vercel.app/it/events/ironman-70-3-curitiba-2027-03-21
END:VEVENT
END:VCALENDAR
