BEGIN:VCALENDAR
VERSION:2.0
PRODID:-//SportPlan//Event Calendar//EN
CALSCALE:GREGORIAN
BEGIN:VEVENT
UID:5f12bce2-ebde-4567-82a7-55f09d26cae2@sportplan.local
DTSTAMP:20260420T211613Z
DTSTART;VALUE=DATE:20261114
DTEND;VALUE=DATE:20261115
SUMMARY:Ironman 70.3 Cascais Lanzarote 2026
DESCRIPTION:Ironman 70.3 Cascais Lanzarote 2026 se celebrará el 14 de noviembre de 2026 en Lanzarote\, Las Palmas. Es una buena cita para quienes quieren vivir el ambiente del evento en directo y planificar la jornada con antelación. La sede prevista está a unos 113 km\, así que conviene revisar accesos\, horarios y servicios antes de salir.
LOCATION:Lanzarote\, Las Palmas
URL:https://sportplan.vercel.app/it/events/ironman-70-3-cascais-lanzarote-2026-lanzarote-2026-11-14
END:VEVENT
END:VCALENDAR
