BEGIN:VCALENDAR
VERSION:2.0
PRODID:-//SportPlan//Event Calendar//EN
CALSCALE:GREGORIAN
BEGIN:VEVENT
UID:b4e17145-4b4e-4487-b406-d23250ca7647@sportplan.local
DTSTAMP:20260420T223750Z
DTSTART;VALUE=DATE:20260726
DTEND;VALUE=DATE:20260727
SUMMARY:IRONMAN 70.3 Calgary
DESCRIPTION:IRONMAN 70.3 Calgary is an official age-group triathlon in Alberta\, Canada\, scheduled for 26 July 2026. The official race page presents a public amateur-entry event with a lake swim\, scenic bike through the foothills\, a run along the Bow River pathway\, relay participation\, and athlete-facing registration\, schedule\, and course information.
LOCATION:Calgary\, Alberta\, Canada
URL:https://sportplan.vercel.app/it/events/ironman-70-3-calgary-calgary-2026-07-26
END:VEVENT
END:VCALENDAR
