BEGIN:VCALENDAR
VERSION:2.0
PRODID:-//SportPlan//Event Calendar//EN
CALSCALE:GREGORIAN
BEGIN:VEVENT
UID:8b993406-be67-45d3-99ec-ab001c49cc13@sportplan.local
DTSTAMP:20260420T223756Z
DTSTART;VALUE=DATE:20261025
DTEND;VALUE=DATE:20261026
SUMMARY:IRONMAN 70.3 Agadir
DESCRIPTION:discovered via official IRONMAN race page\; Morocco had fewer queue entries than core seeded markets and was selected to expand Maghreb coverage
LOCATION:Agadir\, Morocco
URL:https://sportplan.vercel.app/it/events/ironman-70-3-agadir-2026-10-25
END:VEVENT
END:VCALENDAR
