BEGIN:VCALENDAR
VERSION:2.0
PRODID:-//SportPlan//Event Calendar//EN
CALSCALE:GREGORIAN
BEGIN:VEVENT
UID:36965ffc-f243-4fba-b973-55f00963607a@sportplan.local
DTSTAMP:20260420T195443Z
DTSTART;VALUE=DATE:20260516
DTEND;VALUE=DATE:20260517
SUMMARY:ING Night Marathon Luxembourg – Registration
DESCRIPTION:Registration subpage confirmed live (HTTP 200)\; marathon festival event covering multiple distances\; TIER 1 expansion
LOCATION:Luxembourg City\, Luxembourg
URL:https://sportplan.vercel.app/it/events/ing-night-marathon-luxembourg-registration-2026-05-16
END:VEVENT
END:VCALENDAR
