BEGIN:VCALENDAR
VERSION:2.0
PRODID:-//SportPlan//Event Calendar//EN
CALSCALE:GREGORIAN
BEGIN:VEVENT
UID:f8144e5b-f4a1-47d7-917a-d4959bbd142e@sportplan.local
DTSTAMP:20260420T211622Z
DTSTART;VALUE=DATE:20260918
DTEND;VALUE=DATE:20260921
SUMMARY:InBody HYROX Salt Lake City 2026
DESCRIPTION:InBody HYROX Salt Lake City 2026 is a three-day mass-participation HYROX race at the Salt Palace Convention Center. The official HYROX event page describes the Utah debut as open to elite athletes\, everyday competitors\, and first-timers\, making it a strong amateur-enterable addition in the United States.
LOCATION:Salt Lake City
URL:https://sportplan.vercel.app/it/events/inbody-hyrox-salt-lake-city-2026-2026-09-18
END:VEVENT
END:VCALENDAR
