BEGIN:VCALENDAR
VERSION:2.0
PRODID:-//SportPlan//Event Calendar//EN
CALSCALE:GREGORIAN
BEGIN:VEVENT
UID:b13c856e-807c-4785-913a-36cf87056d5e@sportplan.local
DTSTAMP:20260420T211615Z
DTSTART;VALUE=DATE:20260627
DTEND;VALUE=DATE:20260628
SUMMARY:III Triatlo Jovem de Soure
DESCRIPTION:Official Federação de Triatlo de Portugal event page for the 2026 III Triatlo Jovem de Soure.
LOCATION:Soure\, Portugal
URL:https://sportplan.vercel.app/it/events/iii-triatlo-jovem-de-soure-soure-2026-06-27
END:VEVENT
END:VCALENDAR
