BEGIN:VCALENDAR
VERSION:2.0
PRODID:-//SportPlan//Event Calendar//EN
CALSCALE:GREGORIAN
BEGIN:VEVENT
UID:e071a9fa-cd7a-48c0-9ce1-646476e6e28d@sportplan.local
DTSTAMP:20260421T023854Z
DTSTART;VALUE=DATE:20261009
DTEND;VALUE=DATE:20261012
SUMMARY:HYROX Geneva 2026
DESCRIPTION:HYROX Geneva 2026 is an official mass-participation fitness race weekend in Grand-Saconnex\, Switzerland. The official HYROX event page and the official HYROX Find My Race calendar list the event for 9 to 11 October 2026 at Palexpo Geneva\, with public ticketing and the standard HYROX singles\, doubles\, and relay race formats for amateur participants.
LOCATION:Palexpo Geneva
URL:https://sportplan.vercel.app/it/events/hyrox-geneva-2026-2026-10-09
END:VEVENT
END:VCALENDAR
