BEGIN:VCALENDAR
VERSION:2.0
PRODID:-//SportPlan//Event Calendar//EN
CALSCALE:GREGORIAN
BEGIN:VEVENT
UID:781b2cf3-66e9-4b0e-8be8-d45499eab7f6@sportplan.local
DTSTAMP:20260420T194545Z
DTSTART;VALUE=DATE:20260429
DTEND;VALUE=DATE:20260505
SUMMARY:HYROX Cardiff 2026
DESCRIPTION:HYROX Cardiff 2026 is a six-day mass-participation HYROX race at Principality Stadium. The official HYROX event page provides dates and venue details for an amateur-enterable event in Wales.
LOCATION:Cardiff
URL:https://sportplan.vercel.app/it/events/hyrox-cardiff-2026-2026-04-29
END:VEVENT
END:VCALENDAR
